BEGIN:VCALENDAR
PRODID:-//AT Content Types//AT Event//EN
VERSION:2.0
METHOD:PUBLISH
BEGIN:VEVENT
DTSTAMP:20260420T215921Z
CREATED:20151211T121920Z
UID:ATEvent-9417c62ff1134b839d23baa8f36e6cf0
LAST-MODIFIED:20151211T121926Z
SUMMARY:Comissió Legislativa de Finances i Pressupost
DTSTART:20151216T090000Z
DTEND:20151216T090000Z
LOCATION:Nova seu Planta -3 sala AB
CLASS:PUBLIC
END:VEVENT
END:VCALENDAR
