BEGIN:VCALENDAR
PRODID:-//AT Content Types//AT Event//EN
VERSION:2.0
METHOD:PUBLISH
BEGIN:VEVENT
DTSTAMP:20260420T145808Z
CREATED:20141120T101327Z
UID:ATEvent-67cd5c9efa7c45aeb514ee32476b7ed8
LAST-MODIFIED:20141121T104334Z
SUMMARY:Comissió Legislativa de Finances i Pressupost
DTSTART:20141125T150000Z
DTEND:20141125T150000Z
LOCATION:Nova seu planta -3 sala A
CLASS:PUBLIC
END:VEVENT
END:VCALENDAR
