BEGIN:VCALENDAR
PRODID:-//AT Content Types//AT Event//EN
VERSION:2.0
METHOD:PUBLISH
BEGIN:VEVENT
DTSTAMP:20260423T122339Z
CREATED:20140903T112245Z
UID:ATEvent-c5af1be935a44b5c998ff96610aae268
LAST-MODIFIED:20140909T082108Z
SUMMARY:Comissió Legislativa de Finances i Pressupost
DTSTART:20140909T140000Z
DTEND:20140909T140000Z
LOCATION:Nova seu planta -3 sala A
CLASS:PUBLIC
END:VEVENT
END:VCALENDAR
