BEGIN:VCALENDAR
PRODID:-//AT Content Types//AT Event//EN
VERSION:2.0
METHOD:PUBLISH
BEGIN:VEVENT
DTSTAMP:20260425T150253Z
CREATED:20140718T082120Z
UID:ATEvent-b255d2d9603c4842acab6a4d4b447720
LAST-MODIFIED:20140718T082124Z
SUMMARY:Comissió Legislativa de Finances i Pressupost
DTSTART:20140729T140000Z
DTEND:20140729T140000Z
LOCATION:Nova seu planta -3 sala A
CLASS:PUBLIC
END:VEVENT
END:VCALENDAR
