BEGIN:VCALENDAR
PRODID:-//AT Content Types//AT Event//EN
VERSION:1.0
BEGIN:VEVENT
DTSTART:20140120T150000Z
DTEND:20140120T160000Z
DCREATED:20140114T090612Z
UID:ATEvent-943ec89bf3944b778fdea70664b09bf4
SEQUENCE:0
LAST-MODIFIED:20140124T091200Z
SUMMARY:Comissió Legislativa de Finances i Pressupost
LOCATION:Nova seu Planta -3 Sala A
PRIORITY:3
TRANSP:0
END:VEVENT
END:VCALENDAR
