BEGIN:VCALENDAR
PRODID:-//AT Content Types//AT Event//EN
VERSION:1.0
BEGIN:VEVENT
DTSTART:20140401T140000Z
DTEND:20140401T140000Z
DCREATED:20140313T101924Z
UID:ATEvent-03011f9fe28441aa8f0b469f6411be38
SEQUENCE:0
LAST-MODIFIED:20140331T080921Z
SUMMARY:Comissió Legislativa de Finances i Pressupost
LOCATION:Nova seu planta -3 sala compareixences
PRIORITY:3
TRANSP:0
END:VEVENT
END:VCALENDAR
