BEGIN:VCALENDAR
PRODID:-//AT Content Types//AT Event//EN
VERSION:2.0
METHOD:PUBLISH
BEGIN:VEVENT
DTSTAMP:20260419T180825Z
CREATED:20140113T192518Z
UID:ATEvent-a4086426636544afac6d6fee7acd1e27
LAST-MODIFIED:20140124T091914Z
SUMMARY:Comissió Legislativa de Finances i Pressupost
DTSTART:20140107T150000Z
DTEND:20140107T160000Z
LOCATION:Nova seu Planta -3 Sala A
CLASS:PUBLIC
END:VEVENT
END:VCALENDAR
