BEGIN:VCALENDAR
PRODID:-//AT Content Types//AT Event//EN
VERSION:1.0
BEGIN:VEVENT
DTSTART:20240919T133000Z
DTEND:20240919T140000Z
DCREATED:20240917T085202Z
UID:ATEvent-ec8b3b2d9c2847eeb681365abbf0410e
SEQUENCE:0
LAST-MODIFIED:20240917T085210Z
SUMMARY:Comissió Legislativa de Finances i Pressupos
PRIORITY:3
TRANSP:0
END:VEVENT
END:VCALENDAR
