BEGIN:VCALENDAR
PRODID:-//AT Content Types//AT Event//EN
VERSION:1.0
BEGIN:VEVENT
DTSTART:20170301T150000Z
DTEND:20170301T150000Z
DCREATED:20170201T101332Z
UID:ATEvent-5dd613f86e1448cf9f93389cddfa8a54
SEQUENCE:0
LAST-MODIFIED:20170221T110141Z
SUMMARY:Comissió Legislativa de Finances i Comissió Legislativa de Sanitat i Medi Ambient
LOCATION:Nova seu Planta -3 sala de compareixences
PRIORITY:3
TRANSP:0
END:VEVENT
END:VCALENDAR
