BEGIN:VCALENDAR
PRODID:-//AT Content Types//AT Event//EN
VERSION:1.0
BEGIN:VEVENT
DTSTART:20210525T133000Z
DTEND:20210525T133000Z
DCREATED:20210512T131426Z
UID:ATEvent-c2e008304dd04a4dbc7aa2b68aab4c7f
SEQUENCE:0
LAST-MODIFIED:20210517T132833Z
SUMMARY:Comissió Legislativa d'Afers Socials i Igualtat
PRIORITY:3
TRANSP:0
END:VEVENT
END:VCALENDAR
