BEGIN:VCALENDAR
PRODID:-//AT Content Types//AT Event//EN
VERSION:1.0
BEGIN:VEVENT
DTSTART:20220428T080000Z
DTEND:20220428T080000Z
DCREATED:20220422T111938Z
UID:ATEvent-0ed126b212d1411581029b58695bac77
SEQUENCE:0
LAST-MODIFIED:20220422T111941Z
SUMMARY:Comissió Legislativa d'Afers Socials i Igualtat
PRIORITY:3
TRANSP:0
END:VEVENT
END:VCALENDAR
