BEGIN:VCALENDAR
PRODID:-//AT Content Types//AT Event//EN
VERSION:2.0
METHOD:PUBLISH
BEGIN:VEVENT
DTSTAMP:20260425T211719Z
CREATED:20220202T102254Z
UID:ATEvent-d2ac373eca734b6c9254c8a16ea7cd01
LAST-MODIFIED:20220202T102757Z
SUMMARY:Comissió Legislativa d'Afers Socials i Igualtat
DTSTART:20220301T154500Z
DTEND:20220301T154500Z
LOCATION:Nova seu Planta -3 sala de compareixences públiques
CLASS:PUBLIC
END:VEVENT
END:VCALENDAR
