BEGIN:VCALENDAR
PRODID:-//AT Content Types//AT Event//EN
VERSION:1.0
BEGIN:VEVENT
DTSTART:20220301T163000Z
DTEND:20220301T163000Z
DCREATED:20220201T090411Z
UID:ATEvent-7b2f16ca201f41a4abab80f1cf5ebc9e
SEQUENCE:0
LAST-MODIFIED:20220201T090416Z
SUMMARY:Comissió Legislativa d'Afers Socials i Igualtat
LOCATION:Nova seu Planta -3 sala de compareixences públiques
PRIORITY:3
TRANSP:0
END:VEVENT
END:VCALENDAR
