BEGIN:VCALENDAR
PRODID:-//AT Content Types//AT Event//EN
VERSION:1.0
BEGIN:VEVENT
DTSTART:20211214T110000Z
DTEND:20211214T110000Z
DCREATED:20211202T160616Z
UID:ATEvent-b037176f53b64efc80cbffe104fc1ed2
SEQUENCE:0
LAST-MODIFIED:20211214T083218Z
SUMMARY:Comissió Legislativa d'Afers Socials i Igualtat
PRIORITY:3
TRANSP:0
END:VEVENT
END:VCALENDAR
