BEGIN:VCALENDAR
PRODID:-//AT Content Types//AT Event//EN
VERSION:2.0
METHOD:PUBLISH
BEGIN:VEVENT
DTSTAMP:20260420T100145Z
CREATED:20211014T080253Z
UID:ATEvent-2b85df9828bb4e9b8ff5948dcbf4c593
LAST-MODIFIED:20211022T080300Z
SUMMARY:Comissió Legislativa d'Afers Socials i Igualtat
DTSTART:20211026T130000Z
DTEND:20211026T130000Z
CLASS:PUBLIC
END:VEVENT
END:VCALENDAR
