BEGIN:VCALENDAR
PRODID:-//AT Content Types//AT Event//EN
VERSION:2.0
METHOD:PUBLISH
BEGIN:VEVENT
DTSTAMP:20260422T101535Z
CREATED:20211006T075030Z
UID:ATEvent-b2787f4111544f5792a55f59e209c5eb
LAST-MODIFIED:20211006T075033Z
SUMMARY:Comissió Legislativa d'Afers Socials i Igualtat
DTSTART:20211012T143000Z
DTEND:20211012T143000Z
CLASS:PUBLIC
END:VEVENT
END:VCALENDAR
