BEGIN:VCALENDAR
PRODID:-//AT Content Types//AT Event//EN
VERSION:2.0
METHOD:PUBLISH
BEGIN:VEVENT
DTSTAMP:20260419T220904Z
CREATED:20140325T152722Z
UID:ATEvent-5c5daad0834b4361bc36bec25cc8c52a
LAST-MODIFIED:20140325T152726Z
SUMMARY:Comissió Legislativa d'Afers Socials
DTSTART:20140404T091500Z
DTEND:20140404T091500Z
LOCATION:Nova seu planta -3 sala A
CLASS:PUBLIC
END:VEVENT
END:VCALENDAR
