BEGIN:VCALENDAR
PRODID:-//AT Content Types//AT Event//EN
VERSION:1.0
BEGIN:VEVENT
DTSTART:20181211T143000Z
DTEND:20181211T143000Z
DCREATED:20181204T153404Z
UID:ATEvent-6327043960844b848521504e9784fd7c
SEQUENCE:0
LAST-MODIFIED:20181205T103522Z
SUMMARY:Comissió Legislativa d'Afers Socials
LOCATION:Nova seu Planta -3 sala AB
PRIORITY:3
TRANSP:0
END:VEVENT
END:VCALENDAR
