BEGIN:VCALENDAR
PRODID:-//AT Content Types//AT Event//EN
VERSION:2.0
METHOD:PUBLISH
BEGIN:VEVENT
DTSTAMP:20260420T145809Z
CREATED:20181108T110533Z
UID:ATEvent-f7c10b736eae4a8ab89689844574c469
LAST-MODIFIED:20181108T110537Z
SUMMARY:Comissió Legislativa d'Afers Socials
DTSTART:20181113T153000Z
DTEND:20181113T153000Z
LOCATION:Nova seu Planta -3 sala AB
CLASS:PUBLIC
END:VEVENT
END:VCALENDAR
