BEGIN:VCALENDAR
PRODID:-//AT Content Types//AT Event//EN
VERSION:2.0
METHOD:PUBLISH
BEGIN:VEVENT
DTSTAMP:20260423T132905Z
CREATED:20181017T090148Z
UID:ATEvent-93f1bf732fe647639738479e4b030b8d
LAST-MODIFIED:20181017T090159Z
SUMMARY:Comissió Legislativa d'Afers Socials
DTSTART:20181023T133000Z
DTEND:20181023T133000Z
LOCATION:Nova seu Planta -3 sala CD
CLASS:PUBLIC
END:VEVENT
END:VCALENDAR
