BEGIN:VCALENDAR
PRODID:-//AT Content Types//AT Event//EN
VERSION:1.0
BEGIN:VEVENT
DTSTART:20180925T130000Z
DTEND:20180925T130000Z
DCREATED:20180912T170138Z
UID:ATEvent-b32137c75f4547a2b850fc5dcef8fad4
SEQUENCE:0
LAST-MODIFIED:20180912T170141Z
SUMMARY:Comissió Legislativa d'Afers Socials
LOCATION:Nova seu Planta -3 sala AB
PRIORITY:3
TRANSP:0
END:VEVENT
END:VCALENDAR
