BEGIN:VCALENDAR
PRODID:-//AT Content Types//AT Event//EN
VERSION:1.0
BEGIN:VEVENT
DTSTART:20180626T130000Z
DTEND:20180626T130000Z
DCREATED:20180620T100309Z
UID:ATEvent-04b9538a7efb4dde96ee646d2c74bc02
SEQUENCE:0
LAST-MODIFIED:20180620T100312Z
SUMMARY:Comissió Legislativa d'Afers Socials
LOCATION:Nova seu Planta -3 sala AB
PRIORITY:3
TRANSP:0
END:VEVENT
END:VCALENDAR
