BEGIN:VCALENDAR
PRODID:-//AT Content Types//AT Event//EN
VERSION:2.0
METHOD:PUBLISH
BEGIN:VEVENT
DTSTAMP:20260422T082404Z
CREATED:20180613T082703Z
UID:ATEvent-ba391e4656a841b6bbcadcc422fc198e
LAST-MODIFIED:20180613T082710Z
SUMMARY:Comissió Legislativa d'Afers Socials
DTSTART:20180619T130000Z
DTEND:20180619T130000Z
LOCATION:Nova seu Planta -3 sala AB
CLASS:PUBLIC
END:VEVENT
END:VCALENDAR
