BEGIN:VCALENDAR
PRODID:-//AT Content Types//AT Event//EN
VERSION:2.0
METHOD:PUBLISH
BEGIN:VEVENT
DTSTAMP:20260420T162559Z
CREATED:20180606T092120Z
UID:ATEvent-78a32af8d2ae45368a10eda3bd9a3067
LAST-MODIFIED:20180606T092134Z
SUMMARY:Comissió Legislativa d'Afers Socials
DTSTART:20180612T130000Z
DTEND:20180612T130000Z
LOCATION:Nova seu Planta -3 sala AB
CLASS:PUBLIC
END:VEVENT
END:VCALENDAR
