BEGIN:VCALENDAR
PRODID:-//AT Content Types//AT Event//EN
VERSION:2.0
METHOD:PUBLISH
BEGIN:VEVENT
DTSTAMP:20260421T175351Z
CREATED:20180530T113914Z
UID:ATEvent-2cff851a8681455f9663b5325b94a88f
LAST-MODIFIED:20180605T084143Z
SUMMARY:Comissió Legislativa d'Afers Socials
DTSTART:20180605T140000Z
DTEND:20180605T140000Z
LOCATION:Nova seu Planta -3 sala AB
CLASS:PUBLIC
END:VEVENT
END:VCALENDAR
