BEGIN:VCALENDAR
PRODID:-//AT Content Types//AT Event//EN
VERSION:1.0
BEGIN:VEVENT
DTSTART:20180515T130000Z
DTEND:20180515T130000Z
DCREATED:20180509T102711Z
UID:ATEvent-7227f36364c14c1998c2c60dd4353f0a
SEQUENCE:0
LAST-MODIFIED:20180509T102715Z
SUMMARY:Comissió Legislativa d'Afers Socials
LOCATION:Nova seu Planta -3 sala AB
PRIORITY:3
TRANSP:0
END:VEVENT
END:VCALENDAR
