BEGIN:VCALENDAR
PRODID:-//AT Content Types//AT Event//EN
VERSION:2.0
METHOD:PUBLISH
BEGIN:VEVENT
DTSTAMP:20260423T122242Z
CREATED:20140127T120157Z
UID:ATEvent-30ca3baf33284d648c855757a7a0b4b9
LAST-MODIFIED:20140127T120305Z
SUMMARY:Comissió Legislativa d'Afers Socials
DTSTART:20140214T093000Z
DTEND:20140214T103000Z
LOCATION:Nova seu planta -3 sala A
CLASS:PUBLIC
END:VEVENT
END:VCALENDAR
