BEGIN:VCALENDAR
PRODID:-//AT Content Types//AT Event//EN
VERSION:1.0
BEGIN:VEVENT
DTSTART:20170411T100000Z
DTEND:20170411T100000Z
DCREATED:20170404T085450Z
UID:ATEvent-cb9fb1d19d5b454e9a923cdf6ad1c95f
SEQUENCE:0
LAST-MODIFIED:20170404T085454Z
SUMMARY:Comissió Legislativa d'Afers Socials
LOCATION:Nova seu Planta -3 sala AB
PRIORITY:3
TRANSP:0
END:VEVENT
END:VCALENDAR
