BEGIN:VCALENDAR
PRODID:-//AT Content Types//AT Event//EN
VERSION:1.0
BEGIN:VEVENT
DTSTART:20140213T080000Z
DTEND:20140213T080000Z
DCREATED:20140127T115431Z
UID:ATEvent-c94ec7902ead4d6a84d84e8519a87486
SEQUENCE:0
LAST-MODIFIED:20140204T110538Z
SUMMARY:Comissió Legislativa d'Afers Socials
LOCATION:Nova seu planta -3 sala A
PRIORITY:3
TRANSP:0
END:VEVENT
END:VCALENDAR
