BEGIN:VCALENDAR
PRODID:-//AT Content Types//AT Event//EN
VERSION:2.0
METHOD:PUBLISH
BEGIN:VEVENT
DTSTAMP:20260423T122241Z
CREATED:20151104T153606Z
UID:ATEvent-9ee658e4c28e4489b403e5ee86719d5b
LAST-MODIFIED:20151104T153613Z
SUMMARY:Comissió Legislativa d'Afers Socials
DTSTART:20151110T143000Z
DTEND:20151110T143000Z
LOCATION:Nova seu Planta -3 sala AB
CLASS:PUBLIC
END:VEVENT
END:VCALENDAR
