BEGIN:VCALENDAR
PRODID:-//AT Content Types//AT Event//EN
VERSION:2.0
METHOD:PUBLISH
BEGIN:VEVENT
DTSTAMP:20260419T145906Z
CREATED:20241210T100312Z
UID:ATEvent-b01559f14e7f485ea0923b2f56300c3d
LAST-MODIFIED:20241210T153200Z
SUMMARY:Comissió Legislativa d’Educació\, Recerca\, Cultura\, Joventut i Esports
DTSTART:20241217T140000Z
DTEND:20241217T153000Z
CLASS:PUBLIC
END:VEVENT
END:VCALENDAR
