BEGIN:VCALENDAR
PRODID:-//AT Content Types//AT Event//EN
VERSION:2.0
METHOD:PUBLISH
BEGIN:VEVENT
DTSTAMP:20260423T090128Z
CREATED:20240827T081902Z
UID:ATEvent-d7cedbe96cc448b7887306a1a93ff814
LAST-MODIFIED:20240913T160208Z
SUMMARY:Comissió Legislativa d’Educació\, Recerca\, Cultura\, Joventut i Esports
DTSTART:20240924T133000Z
DTEND:20240924T150000Z
CLASS:PUBLIC
END:VEVENT
END:VCALENDAR
