BEGIN:VCALENDAR
PRODID:-//AT Content Types//AT Event//EN
VERSION:2.0
METHOD:PUBLISH
BEGIN:VEVENT
DTSTAMP:20260423T110858Z
CREATED:20240731T080918Z
UID:ATEvent-177ec346bfdf4d93a651ce2e87b61134
LAST-MODIFIED:20240731T080938Z
SUMMARY:Comissió Legislativa d’Educació\, Recerca\, Cultura\, Joventut i Esports
DTSTART:20240917T133000Z
DTEND:20240917T150000Z
LOCATION:Consell General (planta -3).
CLASS:PUBLIC
END:VEVENT
END:VCALENDAR
