BEGIN:VCALENDAR
PRODID:-//AT Content Types//AT Event//EN
VERSION:2.0
METHOD:PUBLISH
BEGIN:VEVENT
DTSTAMP:20260422T095628Z
CREATED:20240327T101127Z
UID:ATEvent-dc36c5070b8742649eee030a66dae123
LAST-MODIFIED:20240327T101133Z
SUMMARY:Comissió Legislativa d’Educació\, Recerca\, Cultura\, Joventut i Esports
DTSTART:20240410T133000Z
DTEND:20240410T153000Z
LOCATION:Consell General (planta -3).
CLASS:PUBLIC
END:VEVENT
END:VCALENDAR
