BEGIN:VCALENDAR
PRODID:-//AT Content Types//AT Event//EN
VERSION:2.0
METHOD:PUBLISH
BEGIN:VEVENT
DTSTAMP:20260422T202245Z
CREATED:20240118T121629Z
UID:ATEvent-a615a19f40b24f17bb6db3389ef7629b
LAST-MODIFIED:20240118T121732Z
SUMMARY:Comissió Legislativa d’Educació\, Recerca\, Cultura\, Joventut i Esports
DTSTART:20240130T140000Z
DTEND:20240130T160000Z
CLASS:PUBLIC
END:VEVENT
END:VCALENDAR
