BEGIN:VCALENDAR
PRODID:-//AT Content Types//AT Event//EN
VERSION:2.0
METHOD:PUBLISH
BEGIN:VEVENT
DTSTAMP:20260423T084945Z
CREATED:20231222T091856Z
UID:ATEvent-6bca5489d66f4893a54518b3d596b153
LAST-MODIFIED:20231222T095653Z
SUMMARY:Comissió Legislativa d’Educació\, Recerca\, Cultura\, Joventut i Esports
DTSTART:20240130T150000Z
DTEND:20240130T163000Z
LOCATION:Consell General (planta -3).
CLASS:PUBLIC
END:VEVENT
END:VCALENDAR
