BEGIN:VCALENDAR
PRODID:-//AT Content Types//AT Event//EN
VERSION:2.0
METHOD:PUBLISH
BEGIN:VEVENT
DTSTAMP:20260423T122935Z
CREATED:20230113T093742Z
UID:ATEvent-c88c81583557447b8cb9aa3a399b5920
LAST-MODIFIED:20230113T093800Z
SUMMARY:Comissió Legislativa d’Educació\, Recerca\, Cultura\, Joventut i Esports
DTSTART:20230116T163000Z
DTEND:20230116T163000Z
LOCATION:Nova seu Planta -3 sala AB
CLASS:PUBLIC
END:VEVENT
END:VCALENDAR
