BEGIN:VCALENDAR
PRODID:-//AT Content Types//AT Event//EN
VERSION:1.0
BEGIN:VEVENT
DTSTART:20221212T160000Z
DTEND:20221212T160000Z
DCREATED:20221206T074859Z
UID:ATEvent-b02d1708242647beab23b812bc2c94e8
SEQUENCE:0
LAST-MODIFIED:20221206T074916Z
SUMMARY:Comissió Legislativa d’Educació\, Recerca\, Cultura\, Joventut i Esports
LOCATION:Nova seu Planta -3 sala AB
PRIORITY:3
TRANSP:0
END:VEVENT
END:VCALENDAR
