BEGIN:VCALENDAR
PRODID:-//AT Content Types//AT Event//EN
VERSION:2.0
METHOD:PUBLISH
BEGIN:VEVENT
DTSTAMP:20260420T162812Z
CREATED:20221102T093929Z
UID:ATEvent-9867b33514a941c7b26308a8faf39e19
LAST-MODIFIED:20221107T093600Z
SUMMARY:Comissió Legislativa d’Educació\, Recerca\, Cultura\, Joventut i Esports
DTSTART:20221107T143000Z
DTEND:20221107T143000Z
LOCATION:Nova seu Planta -3 sala de compareixences públiques
CLASS:PUBLIC
END:VEVENT
END:VCALENDAR
