BEGIN:VCALENDAR
PRODID:-//AT Content Types//AT Event//EN
VERSION:1.0
BEGIN:VEVENT
DTSTART:20220411T130000Z
DTEND:20220411T130000Z
DCREATED:20220330T111615Z
UID:ATEvent-9d5606361edf41ea8730384a5641e0f4
SEQUENCE:0
LAST-MODIFIED:20220330T111624Z
SUMMARY:Comissió Legislativa d’Educació\, Recerca\, Cultura\, Joventut i Esports
PRIORITY:3
TRANSP:0
END:VEVENT
END:VCALENDAR
