BEGIN:VCALENDAR
PRODID:-//AT Content Types//AT Event//EN
VERSION:1.0
BEGIN:VEVENT
DTSTART:20201028T091500Z
DTEND:20201028T091500Z
DCREATED:20201022T114559Z
UID:ATEvent-6f3514e056274815907c4a4cccd03639
SEQUENCE:0
LAST-MODIFIED:20201022T114602Z
SUMMARY:Comissió Legislativa d’Educació\, Recerca\, Cultura\, Joventut i Esports
PRIORITY:3
TRANSP:0
END:VEVENT
END:VCALENDAR
