BEGIN:VCALENDAR
PRODID:-//AT Content Types//AT Event//EN
VERSION:2.0
METHOD:PUBLISH
BEGIN:VEVENT
DTSTAMP:20260421T234333Z
CREATED:20140512T113143Z
UID:ATEvent-52dddbae1555452d94fb968434b0ab33
LAST-MODIFIED:20140520T083948Z
SUMMARY:Comissió Legislativa d’Educació\, Recerca\, Cultura i Esports
DTSTART:20140519T141500Z
DTEND:20140519T141500Z
LOCATION:Nova seu planta -3 sala A
CLASS:PUBLIC
END:VEVENT
END:VCALENDAR
