BEGIN:VCALENDAR
PRODID:-//AT Content Types//AT Event//EN
VERSION:1.0
BEGIN:VEVENT
DTSTART:20201009T080000Z
DTEND:20201009T080000Z
DCREATED:20191129T130430Z
UID:ATEvent-4325050ae17c4d37b803a50f3f53244e
SEQUENCE:0
LAST-MODIFIED:20200922T135226Z
SUMMARY:Comissió Legislativa d’Economia
LOCATION:Nova seu Planta -3 sala de compareixences públiques
PRIORITY:3
TRANSP:0
END:VEVENT
END:VCALENDAR
