BEGIN:VCALENDAR
PRODID:-//AT Content Types//AT Event//EN
VERSION:2.0
METHOD:PUBLISH
BEGIN:VEVENT
DTSTAMP:20260423T144718Z
CREATED:20210924T080327Z
UID:ATEvent-205e27c9314845118761416626be6d80
LAST-MODIFIED:20210928T132625Z
SUMMARY:Comissió Legislativa d’Economia
DTSTART:20211006T133000Z
DTEND:20211006T133000Z
CLASS:PUBLIC
END:VEVENT
END:VCALENDAR
