BEGIN:VCALENDAR
PRODID:-//AT Content Types//AT Event//EN
VERSION:2.0
METHOD:PUBLISH
BEGIN:VEVENT
DTSTAMP:20260421T062209Z
CREATED:20210729T085956Z
UID:ATEvent-13a20c084d274ae9ad485e089549b45a
LAST-MODIFIED:20210729T091708Z
SUMMARY:Comissió Legislativa d’Economia
DTSTART:20210910T093000Z
DTEND:20210910T093000Z
LOCATION:Nova seu Planta -3 sala de compareixences públiques
CLASS:PUBLIC
END:VEVENT
END:VCALENDAR
