BEGIN:VCALENDAR
PRODID:-//AT Content Types//AT Event//EN
VERSION:1.0
BEGIN:VEVENT
DTSTART:20210602T133000Z
DTEND:20210602T133000Z
DCREATED:20210531T140329Z
UID:ATEvent-071d6d1e29354493846bc7378744adaa
SEQUENCE:0
LAST-MODIFIED:20210531T140332Z
SUMMARY:Comissió Legislativa d’Economia
PRIORITY:3
TRANSP:0
END:VEVENT
END:VCALENDAR
