BEGIN:VCALENDAR
PRODID:-//AT Content Types//AT Event//EN
VERSION:2.0
METHOD:PUBLISH
BEGIN:VEVENT
DTSTAMP:20260425T174724Z
CREATED:20210412T105220Z
UID:ATEvent-e4a16ebfa22648d9b899258175cf5f13
LAST-MODIFIED:20210412T105236Z
SUMMARY:Comissió Legislativa d’Economia
DTSTART:20210415T133000Z
DTEND:20210415T133000Z
CLASS:PUBLIC
END:VEVENT
END:VCALENDAR
