BEGIN:VCALENDAR
PRODID:-//AT Content Types//AT Event//EN
VERSION:2.0
METHOD:PUBLISH
BEGIN:VEVENT
DTSTAMP:20260421T033236Z
CREATED:20210210T105235Z
UID:ATEvent-20b61437e3c641efbb8b325bb5b3d53b
LAST-MODIFIED:20210210T105241Z
SUMMARY:Comissió Legislativa d’Economia
DTSTART:20210303T143000Z
DTEND:20210303T143000Z
CLASS:PUBLIC
END:VEVENT
END:VCALENDAR
