BEGIN:VCALENDAR
PRODID:-//AT Content Types//AT Event//EN
VERSION:2.0
METHOD:PUBLISH
BEGIN:VEVENT
DTSTAMP:20260420T215606Z
CREATED:20201120T084819Z
UID:ATEvent-9d379c8958c1497b8b0547f452296c45
LAST-MODIFIED:20201120T084822Z
SUMMARY:Comissió Legislativa d’Economia
DTSTART:20201120T090000Z
DTEND:20201120T090000Z
CLASS:PUBLIC
END:VEVENT
END:VCALENDAR
