BEGIN:VCALENDAR
PRODID:-//AT Content Types//AT Event//EN
VERSION:2.0
METHOD:PUBLISH
BEGIN:VEVENT
DTSTAMP:20260421T192332Z
CREATED:20200922T133547Z
UID:ATEvent-222c327264594571bf3beb0aada45f9f
LAST-MODIFIED:20200922T133551Z
SUMMARY:Comissió Legislativa d’Economia
DTSTART:20201002T133000Z
DTEND:20201002T133000Z
LOCATION:Nova seu Planta -3 sala de compareixences públiques
CLASS:PUBLIC
END:VEVENT
END:VCALENDAR
